BEGIN:VCALENDAR
VERSION:2.0
PRODID:-//Schie&szlig;sportgruppe von 1957 e.V. Wahrenholz - ECPv6.15.20//NONSGML v1.0//EN
CALSCALE:GREGORIAN
METHOD:PUBLISH
X-WR-CALNAME:Schie&szlig;sportgruppe von 1957 e.V. Wahrenholz
X-ORIGINAL-URL:http://www.ssg-wahrenholz.de
X-WR-CALDESC:Veranstaltungen für Schie&szlig;sportgruppe von 1957 e.V. Wahrenholz
REFRESH-INTERVAL;VALUE=DURATION:PT1H
X-Robots-Tag:noindex
X-PUBLISHED-TTL:PT1H
BEGIN:VTIMEZONE
TZID:Europe/Paris
BEGIN:DAYLIGHT
TZOFFSETFROM:+0100
TZOFFSETTO:+0200
TZNAME:CEST
DTSTART:20250330T010000
END:DAYLIGHT
BEGIN:STANDARD
TZOFFSETFROM:+0200
TZOFFSETTO:+0100
TZNAME:CET
DTSTART:20251026T010000
END:STANDARD
BEGIN:DAYLIGHT
TZOFFSETFROM:+0100
TZOFFSETTO:+0200
TZNAME:CEST
DTSTART:20260329T010000
END:DAYLIGHT
BEGIN:STANDARD
TZOFFSETFROM:+0200
TZOFFSETTO:+0100
TZNAME:CET
DTSTART:20261025T010000
END:STANDARD
BEGIN:DAYLIGHT
TZOFFSETFROM:+0100
TZOFFSETTO:+0200
TZNAME:CEST
DTSTART:20270328T010000
END:DAYLIGHT
BEGIN:STANDARD
TZOFFSETFROM:+0200
TZOFFSETTO:+0100
TZNAME:CET
DTSTART:20271031T010000
END:STANDARD
END:VTIMEZONE
BEGIN:VEVENT
DTSTART;TZID=Europe/Paris:20261126T170000
DTEND;TZID=Europe/Paris:20261126T180000
DTSTAMP:20260422T114808
CREATED:20260131T080529Z
LAST-MODIFIED:20260131T080529Z
UID:2558-1795712400-1795716000@www.ssg-wahrenholz.de
SUMMARY:Trainingsschießen Kinder und Jugendliche
DESCRIPTION:
URL:http://www.ssg-wahrenholz.de/termin/trainingsschiessen-kinder-und-jugendliche-17/
LOCATION:Schützenzentrum Wahrenholz\, Berliner Straße 3\, Wahrenholz\, Niedersachsen\, 29399\, Germany
END:VEVENT
BEGIN:VEVENT
DTSTART;TZID=Europe/Paris:20261208T170000
DTEND;TZID=Europe/Paris:20261208T180000
DTSTAMP:20260422T114808
CREATED:20260131T080556Z
LAST-MODIFIED:20260131T080556Z
UID:2560-1796749200-1796752800@www.ssg-wahrenholz.de
SUMMARY:Trainingsschießen Kinder und Jugendliche
DESCRIPTION:
URL:http://www.ssg-wahrenholz.de/termin/trainingsschiessen-kinder-und-jugendliche-18/
LOCATION:Schützenzentrum Wahrenholz\, Berliner Straße 3\, Wahrenholz\, Niedersachsen\, 29399\, Germany
END:VEVENT
BEGIN:VEVENT
DTSTART;TZID=Europe/Paris:20261217T170000
DTEND;TZID=Europe/Paris:20261217T180000
DTSTAMP:20260422T114808
CREATED:20260131T080642Z
LAST-MODIFIED:20260131T080642Z
UID:2563-1797526800-1797530400@www.ssg-wahrenholz.de
SUMMARY:Trainingsschießen und Weihnachtsfeier - Kinder und Jugendliche
DESCRIPTION:
URL:http://www.ssg-wahrenholz.de/termin/trainingsschiessen-und-weihnachtsfeier-kinder-und-jugendliche/
LOCATION:Schützenzentrum Wahrenholz\, Berliner Straße 3\, Wahrenholz\, Niedersachsen\, 29399\, Germany
END:VEVENT
END:VCALENDAR